BEGIN:VCALENDAR
VERSION:2.0
PRODID:-//Squarespace Inc/Squarespace 6//v6//EN
BEGIN:VEVENT
UID:5bf76ec070a6ad835e48d1b9@squarespace.com
DTSTAMP:20181123T031139Z
DTSTART:20190831T230000Z
DTEND:20190907T070000Z
SUMMARY:Watercolour Workshop\, National Art School\, Sydney
GEO:-33.86882;151.209296
LOCATION:National Art School\, Sydney\, NSW\, Australia
END:VEVENT
END:VCALENDAR
